BEGIN:VCALENDAR
VERSION:2.0
PRODID:ics.py - http://git.io/lLljaA
BEGIN:VEVENT
DESCRIPTION:Philosophy Colloquium Talk given by Brian Burkhart\, University of Oklahoma This event is not open to the general public.  https://www.coloradocollege.edu/newsevents/calendar/details.html?EventID=45132&amp\;booking=1SEQUENCE:0\n\nhttps://today.coloradocollege.edu/events/3718
DTEND:20220407T230000Z
LOCATION:Gaylord Hall - main floor of Worner Campus Center\, 902 N. Cascade Ave.
DTSTART:20220407T213000Z
SUMMARY:Philosophy Colloquium Talk - Brian Burkhart
UID:6c91e759-3f58-48fe-a5a2-569816ca5726
END:VEVENT
END:VCALENDAR