BEGIN:VCALENDAR
VERSION:2.0
PRODID:ics.py - http://git.io/lLljaA
BEGIN:VEVENT
DESCRIPTION:Refugees\, Language\, and the Meaning of ‘America’: with Viet Thanh Nguyen\, author of The Sympathizer and The Committed\n\n\n\nThursday\, April 7\, 2022\, 7 p.m.\n\nKathryn Mohrman Theatre\n\n\n\nViet Thanh Nguyen is a professor at the University of Southern California and an award-winning novelist\, creative nonfiction writer\, scholar\, teacher\, and essayist whose columns are regularly published in The New York Times. Nguyen and his family came to the United States in 1975 as refugees during the Vietnam War. Growing up in America\, he realized that most movies and books about the war focused on Americans\, while the Vietnamese were silenced and erased. He was inspired by this lack of representation to write about the war from a Vietnamese perspective. In his first novel\, “The Sympathizer” (2017)\, which won the Pulitzer Prize\, Nguyen creatively reimagines the Vietnam War. His second novel\, “The Committed” (2021)\, is a much anticipated follow-up to the first\, has received widespread acclaim\, and has been described as a “masterwork” and “revelatory.” Nguyen’s book “Nothing Ever Dies: Vietnam and the Memory of War” (2016) was a finalist for the National Book Award. Nguyen received a MacArthur “Genius” Grant in 2017. This event is open to the general public.  https://www.coloradocollege.edu/newsevents/calendar/details.html?EventID=47192&amp\;booking=1SEQUENCE:0\n\nhttps://today.coloradocollege.edu/events/4073
DTEND:20220408T030000Z
LOCATION:Kathryn Mohrman Theatre - inside Armstrong Hall\, 14 E. Cache La Poudre St.
DTSTART:20220408T010000Z
SUMMARY:Refugees\, Language\, and the Meaning of ‘America’: with Viet Thanh Nguyen\, author of The Sympathizer and The Committed
UID:2a6d00b9-8bf9-4ae1-a41f-8f01a739462f
END:VEVENT
END:VCALENDAR