BEGIN:VCALENDAR
VERSION:2.0
PRODID:ics.py - http://git.io/lLljaA
BEGIN:VEVENT
DESCRIPTION:This workshop will be facilitated by Sarah Hinkle\, Director of Competitive Communications.  Students will grapple with the following:\n(1) How do I tell my public narrative – my story of self\, story of us\, and story of now?\n(2) What are skills/techniques of storytelling\, and how do I apply them to telling my story?\n(3) What is the role of narrative and storytelling within engagement and change work? Why is it important for me to be able to tell my story?\n\n<a href="https://apps.ideal-logic.com/cce?key=29L66-D685_K9KH-5PTF_13434c3a4a7b">RSVP Here</a>\n\nhttps://today.coloradocollege.edu/events/4246
DTEND:20220414T230000Z
LOCATION:CCE House (1008 N. Weber)
DTSTART:20220414T213000Z
SUMMARY:Storytelling (CCE Senior Changemaker Workshop)
UID:81af9436-1f85-4191-ad2e-336a6f29f496
END:VEVENT
END:VCALENDAR