BEGIN:VCALENDAR
VERSION:2.0
PRODID:ics.py - http://git.io/lLljaA
BEGIN:VEVENT
DESCRIPTION:Please join us for the 2022 MacLean Symposium April 12-14\n\nApril 12: Ma Vang Lecture\n\n5:00 pm\n\nMcHugh Commons\n\nOpen to the public\n\nSponsored by the English Dept.\n\nSponsored by the D.J. MacLean Endowed Fund for English.\n\n\n\n\n\nApril 13: "An Evening with Mai Der Vang" &amp\; Book Signing\n\n6:30 pm Lecture\n\n8:00 pm Book Signing\n\nBemis Great Hall\n\nOpen to the public\n\nSponsored by the English Dept.\n\nSponsored by the D.J. MacLean Endowed Fund for English.\n\n\n\n\n\nApril 14: "To The Ground: Grief\, Community &amp\; Collaboration in CURB" Divya Victor &amp\; Aaron Cohick \n\n4:00 pm Conversation\n\n5:45 pm  Book Signing\n\n6:00 pm Informal Reception\n\nCeleste Theatre\n\nOpen to the public\n\nSponsored by the English Dept.\n\nSponsored by the D.J. MacLean Endowed Fund for English.\n\n\n\n\n\nApril 14:  "A Conversation with Cathy Park Hong" &amp\; Book Signing\n\n7:00 pm Conversation\n\n8:15 pm Book Signing\n\nCeleste Theatre\n\nOpen to the public\n\nSponsored by the English Dept.\n\nSponsored by the D.J. MacLean Endowed Fund for English. This event is open to the general public.  https://www.coloradocollege.edu/newsevents/calendar/details.html?EventID=46410&amp\;booking=6SEQUENCE:0\n\nhttps://today.coloradocollege.edu/events/4312
DTEND:20220415T040000Z
LOCATION: - 
DTSTART:20220414T210000Z
SUMMARY:MacLean Symposium
UID:3137a4fb-c06b-4874-8199-ccd2d10de9d6
END:VEVENT
END:VCALENDAR