BEGIN:VCALENDAR
VERSION:2.0
PRODID:ics.py - http://git.io/lLljaA
BEGIN:VEVENT
DESCRIPTION:Name:Generosity Day Carnival for CC Mutual Aid and Senior Class Gift\n\nDescription:Join CC Mutual Aid and the Senior Class Gift Committee for a fun afternoon at Robson Arena! \n\nThe ice will be open for skating and the concourse will have lots of fun carnival games. Win prizes\, enjoy free food and drinks\, and learn more about CC Mutual Aid and the Senior Class Gift. \n\nAll classes are welcome! We hope to see you there! This event is open to the general public.  https://www.coloradocollege.edu/newsevents/calendar/details.html?EventID=48378&amp\;booking=1SEQUENCE:0\n\nhttps://today.coloradocollege.edu/events/4318
DTEND:20220328T200000Z
LOCATION:Ed Robson Arena - 
DTSTART:20220328T180000Z
SUMMARY:Generosity Day Carnival for CC Mutual Aid & Senior Class Gift in Robson Arena
UID:7faa1ce3-fb1a-4b5a-9eb7-77270fadd055
END:VEVENT
END:VCALENDAR