BEGIN:VCALENDAR
VERSION:2.0
PRODID:ics.py - http://git.io/lLljaA
BEGIN:VEVENT
DESCRIPTION:\nThe CC Department of Music presents “Opera for Everyone! From Mozart to Rossini to Strauss to The Ballad of Baby Doe\, with a bit of Gilbert and Sullivan thrown in for good measure” on Friday\, April 8 and Saturday\, April 9 beginning at 7:30 each evening in Packard Performance Hall.\n\nOpera Scenes is an annual performance featuring students from the Colorado College vocal music program under the direction of Ann Brink. Both performances are free and open to the general public. \n \nEveryone attending a CC Department of Music event is asked to wear a KN95 or similar filtration mask. Visit <a href="http://www.coloradocollege.edu/music">www.coloradocollege.edu/music</a> to learn more about the CC Music Department.\n\nhttps://today.coloradocollege.edu/events/4344
DTEND:20220410T030000Z
LOCATION:Packard Performance Hall
DTSTART:20220410T013000Z
SUMMARY:Opera for Everyone!
UID:b53bca1a-a835-4686-894a-1d6ced4a31b3
END:VEVENT
END:VCALENDAR