BEGIN:VCALENDAR
VERSION:2.0
PRODID:ics.py - http://git.io/lLljaA
BEGIN:VEVENT
DESCRIPTION:FGS Student Daya Stanley's Capstone Project-related Work This event is open to the general public.  https://www.coloradocollege.edu/newsevents/calendar/details.html?EventID=48432&amp\;booking=4SEQUENCE:0\n\nhttps://today.coloradocollege.edu/events/4349
DTEND:20220415T000000Z
LOCATION: - 
DTSTART:20220414T200000Z
SUMMARY:''Written in Our Own Hand'' - Daya T. Stanley's FGS Capstone Project
UID:22fee20b-7a98-4ede-99b9-fd82d33e254e
END:VEVENT
END:VCALENDAR