BEGIN:VCALENDAR
VERSION:2.0
PRODID:ics.py - http://git.io/lLljaA
BEGIN:VEVENT
DESCRIPTION:FGS Student Daya Stanley's Capstone Project-related Work This event is open to the general public.  https://www.coloradocollege.edu/newsevents/calendar/details.html?EventID=48432&amp\;booking=5SEQUENCE:0\n\nhttps://today.coloradocollege.edu/events/4350
DTEND:20220416T000000Z
LOCATION: - 
DTSTART:20220415T200000Z
SUMMARY:''Written in Our Own Hand'' - Daya T. Stanley's FGS Capstone Project
UID:81c24e75-e82f-48c6-884d-fab89f0ce3d1
END:VEVENT
END:VCALENDAR