BEGIN:VCALENDAR
VERSION:2.0
PRODID:ics.py - http://git.io/lLljaA
BEGIN:VEVENT
DESCRIPTION:To acknowledge and celebrate the Spring Equinox\, you are invited to join Lakota spiritual leader\, Lee Plenty Wolf\, for a Smudge Ceremony on 1st Monday of Block 7.  Smudging\, along with prayer\, brings purification of mind\, air\, and space from the smoke of traditional medicines\; sage\, sweetgrass\, and/or cedar.\n\nEveryone is welcome.\n\nhttps://today.coloradocollege.edu/events/4352
DTEND:20220328T191500Z
LOCATION:Labyrinth
DTSTART:20220328T183000Z
SUMMARY:Smudging Ceremony
UID:5929ee58-b4a6-4de1-a066-2dabe93e6f96
END:VEVENT
END:VCALENDAR