BEGIN:VCALENDAR
VERSION:2.0
PRODID:ics.py - http://git.io/lLljaA
BEGIN:VEVENT
DESCRIPTION:Journaling can be a fantastic way to work through hurts\, traumas\, or other troubling life experiences.  In this workshop\, we’ll introduce important aspects of expressive writing that help us move toward healing and engage in a writing exercise using this style of journaling.\n\nhttps://today.coloradocollege.edu/events/4354
DTEND:20220405T230000Z
LOCATION:230 Yalich Student Services Center
DTSTART:20220405T213000Z
SUMMARY:Block 7: Journaling for Healing
UID:78908059-0884-48a4-a4a8-1ce7c630a010
END:VEVENT
END:VCALENDAR