BEGIN:VCALENDAR
VERSION:2.0
PRODID:ics.py - http://git.io/lLljaA
BEGIN:VEVENT
DESCRIPTION:An Evening with Professor Aline Lo and Professor John Williams – The Watch Party!\n\n\n\n\n\nGather in-person with fellow CC students\, faculty\, and staff to watch the virtual discussion\, An Evening with Professor Aline Lo and Professor John Williams: Exploring the perspectives and voices of the Asian diaspora communities through author Viet Thanh Nguyen’s works\, The Sympathizer and The Committed. Food and drinks will be available along with CC Trivia and giveaways in honor of Generosity Day! Join us for a fun evening of learning together!\n\n\n\n\n\nClick here to register This event is not open to the general public.  https://www.coloradocollege.edu/newsevents/calendar/details.html?EventID=48561&amp\;booking=1SEQUENCE:0\n\nhttps://today.coloradocollege.edu/events/4356
DTEND:20220329T010000Z
LOCATION:JLK McHugh Commons - above Preserve\; in the Western Ridge Housing Complex\, 1090 N. Cascade Ave.
DTSTART:20220329T000000Z
SUMMARY:Generosity Day Lecture - Watch Party
UID:bfe965dc-33c9-448d-a6f2-5d1ff21adebe
END:VEVENT
END:VCALENDAR