BEGIN:VCALENDAR
VERSION:2.0
PRODID:ics.py - http://git.io/lLljaA
BEGIN:VEVENT
DESCRIPTION:<a href="https://coloradocollege.qualtrics.com/jfe/form/SV_aXVXB8ayh37x2o6">RSVP here</a>. This workshop facilitated by the Student Opportunities and Advising Hub is intended for new faculty advisors who want to learn more about the nuts and bolts of advising at Colorado College. Topics will include discussion of policies and procedures\, preregistration points system\, all-college requirements\, Stellic\, and the roles of the staff and faculty advisors.\n\nhttps://today.coloradocollege.edu/events/4357
DTEND:20220328T224500Z
LOCATION:Tutt Library 238
DTSTART:20220328T213000Z
SUMMARY:Academic Advising Essentials
UID:be0a549d-7a48-44b1-b56a-ccf10b50617f
END:VEVENT
END:VCALENDAR