BEGIN:VCALENDAR
VERSION:2.0
PRODID:ics.py - http://git.io/lLljaA
BEGIN:VEVENT
DESCRIPTION:<a href="https://coloradocollege.qualtrics.com/jfe/form/SV_0VaeMGg8ncMt9rw">RSVP here</a>.\nThis workshop facilitated by the Student Opportunities and Advising Hub is intended for new faculty advisors who want to learn more about the nuts and bolts of advising at Colorado College. Topics will include discussion of policies and procedures\, preregistration points system\, all-college requirements\, Stellic\, and the roles of the staff and faculty advisors.\n\nhttps://today.coloradocollege.edu/events/4358
DTEND:20220414T193000Z
LOCATION:Tim Fuller Event Space\, Tutt Library
DTSTART:20220414T181500Z
SUMMARY:Academic Advising Essentials
UID:b9fcbe63-7e0a-4991-a44e-1eaf659422a3
END:VEVENT
END:VCALENDAR