BEGIN:VCALENDAR
VERSION:2.0
PRODID:ics.py - http://git.io/lLljaA
BEGIN:VEVENT
DESCRIPTION:Free pizza will be provided at noon outside Tutt Science for attendees of the talk! The talk will begin at 12:30. \n\nThe Department of Math and Computer Science presents talks in the first and second weeks of each block in a series called "Fearless Fridays." The talk this week is "Machine Learning without Structure" by Dr. Cory B. Scott. In-person attendence (Kresge Lecture Hall--Tutt Science Room 122) is preferred\; Zoom attendence is welcomed as a secondary option. \n\nAbstract: \n\nThe recent rise in Deep Learning owes much of its success to a small handful of techniques which made machine learning models drastically more efficient on image and video input. These techniques are directly responsible for the explosion of image filters\, face recognition apps\, deepfakes\, etc. However\, they all rely on the fact that image and video data lives on a grid of pixels (2D for images\, 3D for video). If we want to analyze data that doesn't have a rigid grid-like structure - like molecules\, social networks\, biological food webs\, or traffic patterns - we need some more tricks. One of these techniques is called a Graph Neural Network (GNN). In his talk\, Dr. Scott will talk about GNNs in general\, and demonstrate a couple of cool applications of these models. \n\n<a href="https://www.coloradocollege.edu/academics/dept/mathcs/traditions.html#seminars">Rated PG/PG-13.</a>\n\nZoom info: \n\nJoin Zoom Meeting\n<a href="https://coloradocollege.zoom.us/j/92714179466?pwd=Z0pSUTBoL1VDbmlZNG4vbHM0c1lWUT09">https://coloradocollege.zoom.us/j/92714179466?pwd=Z0pSUTBoL1VDbmlZNG4vbHM0c1lWUT09</a>\n \nMeeting ID: 927 1417 9466\nPasscode: 231940\nOne tap mobile\n+13462487799\,\,92714179466# US (Houston)\n+16699009128\,\,92714179466# US (San Jose)\n \nDial by your location\n        +1 346 248 7799 US (Houston)\n        +1 669 900 9128 US (San Jose)\n        +1 253 215 8782 US (Tacoma)\n        +1 312 626 6799 US (Chicago)\n        +1 646 558 8656 US (New York)\n        +1 301 715 8592 US (Washington DC)\nMeeting ID: 927 1417 9466\nFind your local number: <a href="https://coloradocollege.zoom.us/u/aNjD8IAx8">https://coloradocollege.zoom.us/u/aNjD8IAx8</a>\n \nJoin by Skype for Business\n<a href="https://coloradocollege.zoom.us/skype/92714179466">https://coloradocollege.zoom.us/skype/92714179466</a>\n\nhttps://today.coloradocollege.edu/events/4365
DTEND:20220408T193000Z
LOCATION:TSC 122\, or <a href="https://coloradocollege.zoom.us/j/92714179466?pwd=Z0pSUTBoL1VDbmlZNG4vbHM0c1lWUT09">Zoom</a>
DTSTART:20220408T183000Z
SUMMARY:"Machine Learning without Structure" by Dr. Cory B. Scott
UID:b65d09e3-a597-4b03-ac2b-1bdf37b0eec7
END:VEVENT
END:VCALENDAR