BEGIN:VCALENDAR
VERSION:2.0
PRODID:ics.py - http://git.io/lLljaA
BEGIN:VEVENT
DESCRIPTION:Come down to Sacred Grounds Tea House\, on the lower-level of Shove Chapel\, 9pm-12:30am Sunday-Tuesday of 4th week to enjoy a cozy study space and free fair-trade\, organic tea! Entrance on the side of Shove Chapel facing South Hall.\n\nhttps://today.coloradocollege.edu/events/4382
DTEND:20220415T063000Z
LOCATION:Sacred Grounds
DTSTART:20220415T030000Z
SUMMARY:Drink tea\, study\, and be cozy at Sacred Grounds Tea House
UID:99154d8d-66ee-4bc8-b219-066e43389a46
END:VEVENT
END:VCALENDAR