BEGIN:VCALENDAR
VERSION:2.0
PRODID:ics.py - http://git.io/lLljaA
BEGIN:VEVENT
DESCRIPTION:Come down to Sacred Grounds Tea House\, on the lower-level of Shove Chapel\, 9pm-12:30am Sunday-Tuesday of 4th week to enjoy a cozy study space and free fair-trade\, organic tea! Entrance on the side of Shove Chapel facing South Hall.\n\nhttps://today.coloradocollege.edu/events/4383
DTEND:20220418T063000Z
LOCATION:Sacred Grounds
DTSTART:20220418T030000Z
SUMMARY:Drink tea\, study\, and be cozy at Sacred Grounds Tea House
UID:42265aa2-49df-4bde-b1bb-0fe615abd552
END:VEVENT
END:VCALENDAR