BEGIN:VCALENDAR
VERSION:2.0
PRODID:ics.py - http://git.io/lLljaA
BEGIN:VEVENT
DESCRIPTION:The Return of the Step &amp\; Stroll Show!\nTickets are free for CC Students. <a href="https://am.ticketmaster.com/coloradocollege/stepandstroll">Click here to claim your ticket.</a>\nThe Step and Stroll Showcase is brought to you by the Multicultural Greek Council here at CC\, which consists of Delta Xi Nu multicultural Sorority Inc. and Psi Sigma Phi Multicultural Fraternity Inc.\nThis event is to share a piece of our council's culture and history with the CC Community. There will be live performances from different organizations that participate in the tradition of stepping and strolling.\nThis is definitely a show you do not want to miss!\n \n\nhttps://today.coloradocollege.edu/events/4390
DTEND:20220410T020000Z
LOCATION:Mohrman Theater in Armstrong Hall
DTSTART:20220410T000000Z
SUMMARY:The Step and Stroll Showcase
UID:dbe3cd77-c86d-4395-8d1a-194a72ec24a2
END:VEVENT
END:VCALENDAR