BEGIN:VCALENDAR
VERSION:2.0
PRODID:ics.py - http://git.io/lLljaA
BEGIN:VEVENT
DESCRIPTION:From the folks at Sunbutter comes a brand new Sketch Comedy Show! It's a show where there's a bunch of sketches and live music as well as silly noises! It's an audio-visual symphony for your soul! Come see a bunch of freaks freak out!\n\nhttps://today.coloradocollege.edu/events/4396
DTEND:20220410T030000Z
LOCATION:Taylor Theatre
DTSTART:20220410T013000Z
SUMMARY:Sketch Comedy Show!
UID:be644779-3ef0-4bba-bafc-ab3525b0136c
END:VEVENT
END:VCALENDAR