BEGIN:VCALENDAR
VERSION:2.0
PRODID:ics.py - http://git.io/lLljaA
BEGIN:VEVENT
DESCRIPTION:Do you like having fun? Have a passion for trivia\, current events\, or pop culture? Come to Model UN’s Trivia Night this Wednesday\, April 6th from 5:30-7pm in the WES Room in the downstairs of Worner! Bring a team of up to 4 people and show off your trivia skills! We’ll have food\, prizes\, and fun!”\n\nhttps://today.coloradocollege.edu/events/4397
DTEND:20220407T004600Z
LOCATION:WES Room
DTSTART:20220406T233000Z
SUMMARY:Model UN Trivia Night
UID:699ea0fe-cf4c-46bd-b2d1-4aa12836e385
END:VEVENT
END:VCALENDAR