BEGIN:VCALENDAR
VERSION:2.0
PRODID:ics.py - http://git.io/lLljaA
BEGIN:VEVENT
DESCRIPTION:Join the Math/CS department for our blockly tradition of gathering to hang out and play some board and card games!\n\nhttps://today.coloradocollege.edu/events/4398
DTEND:20220406T230000Z
LOCATION:Tent to the west of Tutt Science\, or Tutt Science Room 215 if weather is bad 
DTSTART:20220406T213000Z
SUMMARY:Math/Computer Science Department Games and Greetings
UID:d8fe1c13-b338-4b0b-a7e8-c0d13a83554e
END:VEVENT
END:VCALENDAR