BEGIN:VCALENDAR
VERSION:2.0
PRODID:ics.py - http://git.io/lLljaA
BEGIN:VEVENT
DESCRIPTION:This year's Theatre and Dance department's annual DanSix dance production will be a film screening of <a href="https://vimeo.com/695415649">The Garden: a kinetic poem</a>.  A collective experiment in cinema and dance\, kinetic poetry comes to life in various locations around Colorado Springs. Original choreography and spoken word created by Theatre &amp\; Dance faculty Patrizia Herminjard in collaboration with Imani Allen\, Iyanla Ayite\, Rayn Fox\, A. Jordan\, Anabella Owens\, Skylar Owens\, Eliana Secunda\, Zaria Taylor\, Anya Quesnel\, and Gabe Wright\, ten students from diverse dance and music backgrounds. Run time: 30 min\n\n\n \n\nhttps://today.coloradocollege.edu/events/4400
DTEND:20220416T233000Z
LOCATION:Cornerstone 131 (Screening Room)
DTSTART:20220416T230000Z
SUMMARY:DANSIX: Dance Cinema
UID:74f53edf-0538-4d56-a47a-11a3a4b08fa8
END:VEVENT
END:VCALENDAR