BEGIN:VCALENDAR
VERSION:2.0
PRODID:ics.py - http://git.io/lLljaA
BEGIN:VEVENT
DESCRIPTION:From 1827-1838 John James Audubon published Birds of America\, which is generally considered to be among the finest examples of prints illustrating avian life in America. This exhibition explores these historic prints with a contemporary lens.\n\nThe selection of prints on display not only bear witness to the natural beauty of America’s birds\, but also offer rich opportunities to reflect on current debates and issues around the problematic context in which the prints were created.\n\nIn-Gallery Discussion | April 9\, 2 p.m.\nEnjoy free admission all day April 9 and join student curators of the exhibition “Rethinking Birds of America: Conversations on Audubon” for an in-gallery discussion of the prints\, the birds\, the artist\, and the show.\n\nFREE and open to the public\, space is limited.\n\nhttps://today.coloradocollege.edu/events/4401
DTEND:20220409T210000Z
LOCATION:Fine Arts Center
DTSTART:20220409T200000Z
SUMMARY:In Gallery Discussion and Opening of Reframing Birds of America:" Conversations on Audubon
UID:3040901a-01a5-450e-b74c-464aad9d3bd7
END:VEVENT
END:VCALENDAR