BEGIN:VCALENDAR
VERSION:2.0
PRODID:ics.py - http://git.io/lLljaA
BEGIN:VEVENT
DESCRIPTION:MUN trivia! We will provide dinner and a wide variety of questions ranging from geopolitical to pop culture! All you need to do is get that MUNnnnnnnny!!! This event is open to the general public.  https://www.coloradocollege.edu/newsevents/calendar/details.html?EventID=48584&amp\;booking=1SEQUENCE:0\n\nhttps://today.coloradocollege.edu/events/4402
DTEND:20220407T010000Z
LOCATION:WCC WES Room - lower level of Worner Campus Center\, 902 N. Cascade Ave.
DTSTART:20220406T230000Z
SUMMARY:Model UN Trivia Night
UID:963568f6-da96-4770-9e32-c17437eab8fe
END:VEVENT
END:VCALENDAR