BEGIN:VCALENDAR
VERSION:2.0
PRODID:ics.py - http://git.io/lLljaA
BEGIN:VEVENT
DESCRIPTION:Justice Watch organizes to hold judges accountable and monitor legal proceedings at the El Paso County Courthouse. Join us this Thursday in Hybl at 1 pm for orientation!\n\nhttps://today.coloradocollege.edu/events/4404
DTEND:20220407T194500Z
LOCATION:Hybl Community Center Main Space
DTSTART:20220407T190000Z
SUMMARY:Justice Watch Orientation
UID:1c4fd7a5-2470-4a62-8ab6-8cf1506bb2f0
END:VEVENT
END:VCALENDAR