BEGIN:VCALENDAR
VERSION:2.0
PRODID:ics.py - http://git.io/lLljaA
BEGIN:VEVENT
DESCRIPTION:GEM in STEM (Gender Minorities in STEM) invites students to join a workshop hosted by Creativity and Innovations at CC on multiple narratives in science over lunchtime this Tuesday\, April 5 at 12pm in the Creativity and Innovation Space. Free lunch provided for participants. Contact a_zettl@coloradocollege.edu for questions.\n\nhttps://today.coloradocollege.edu/events/4405
DTEND:20220405T210000Z
LOCATION:Creativity and Innovation Space
DTSTART:20220405T200000Z
SUMMARY:GEM in STEM - Creativity and Innovations Workshop and free lunch
UID:4935adb6-576d-4e3d-845f-71b128c75751
END:VEVENT
END:VCALENDAR