BEGIN:VCALENDAR
VERSION:2.0
PRODID:ics.py - http://git.io/lLljaA
BEGIN:VEVENT
DESCRIPTION:Come join GEM in STEM's collaging crafternoon on second Friday\, 3pm\, in Barnes 213 to unwind from the week and get to know fellow gender minority science students. Snacks and materials provided.\n\nhttps://today.coloradocollege.edu/events/4406
DTEND:20220408T220000Z
LOCATION:Barnes 213
DTSTART:20220408T210000Z
SUMMARY:GEM in STEM Crafternoon - Collaging and Snacks
UID:30b32cd8-3cea-461c-a3e4-433242eea3f1
END:VEVENT
END:VCALENDAR