BEGIN:VCALENDAR
VERSION:2.0
PRODID:ics.py - http://git.io/lLljaA
BEGIN:VEVENT
DESCRIPTION:Have you ever wondered how do make your own stickers? Come for a teach-in on how to craft them and walk out with your own stickers. GEM in STEM (Gender Minorities in STEM) is hosting a sticker-making workshop on third Friday\, 3pm in the VRC in Packard. The overall theme will be to make stickers raising awareness for minorities in sciences and  spread the word.\n\nhttps://today.coloradocollege.edu/events/4407
DTEND:20220415T220000Z
LOCATION:VRC Packard
DTSTART:20220415T210000Z
SUMMARY:GEM in STEM: Hard Skills Series - Sticker-Making Workshop
UID:dcb0b296-c8d2-4ed2-9af1-4f443297e8fe
END:VEVENT
END:VCALENDAR