BEGIN:VCALENDAR
VERSION:2.0
PRODID:ics.py - http://git.io/lLljaA
BEGIN:VEVENT
DESCRIPTION:In this workshop\, students will engage with the following: \n\n1) What are the histories of Colorado Springs and the Pikes Peaks region? \n2) What does the past teach us about our current moment\, and pressing issues facing our community now?\n \n** This workshop is community-led and situated\, and will consist of a field trip to and tour of the Pioneer's Museum.  Transportation is provided and will leave PROMPTLY from and return to the Hybl East Campus Center. ** \n\n<a href="https://apps.ideal-logic.com/cce?key=29L66-D685_K9KH-5PTF_f132bedb14ee">RSVP HERE</a>\n\nhttps://today.coloradocollege.edu/events/4413
DTEND:20220406T230000Z
LOCATION:Hybl Community Center Main Space
DTSTART:20220406T213000Z
SUMMARY:History of Colorado Springs (CCE First Year Changemaker Workshop)
UID:78bab33d-75f0-4058-b4a2-6ce5efce2070
END:VEVENT
END:VCALENDAR