BEGIN:VCALENDAR
VERSION:2.0
PRODID:ics.py - http://git.io/lLljaA
BEGIN:VEVENT
DESCRIPTION:In this workshop\, co-led by local Campaign Strategist Anthony Carlson and CCE Director Dr. Jordan Travis Radke\, students will grapple with the following questions:\n\nWhat do we mean by a “system” and “systemic change”?\nHow can we nuance\, and problematize\, common uses of “systemic change”?\nHow might I apply systems-level thinking to my areas of interest\, and how does this perspective inform my work?\nHow\, and why\, should I localize systems-level thinking?\n\n<a href="https://apps.ideal-logic.com/cce?key=29L66-D685_K9KH-5PTF_d471412f663e">RSVP HERE</a>\n\nhttps://today.coloradocollege.edu/events/4414
DTEND:20220407T230000Z
LOCATION:CCE House
DTSTART:20220407T213000Z
SUMMARY:What is Systemic Change (CCE Sophomore Changemaker Workshop)
UID:5da4834b-1472-47ec-b938-4f335d759b43
END:VEVENT
END:VCALENDAR