BEGIN:VCALENDAR
VERSION:2.0
PRODID:ics.py - http://git.io/lLljaA
BEGIN:VEVENT
DESCRIPTION:Join us on Wednesday\, April 6 for a conversation about indigenous spirituality with Spiral Fellows and guest Debbie Howell\, Elder-in-Residence. Explore questions like: What can indigenous spirituality teach us about our humanity in relation to others\, ourselves\, and the land? What potential does it hold for transformation in the present day? Come for five minutes\, stay for an hour. All are welcome.\n\nhttps://today.coloradocollege.edu/events/4415
DTEND:20220406T191500Z
LOCATION:Sacred Grounds
DTSTART:20220406T181500Z
SUMMARY:Shove Council – Conversation on Indigenous Spirituality
UID:44e697c6-0d2f-4d7a-bba1-372568109258
END:VEVENT
END:VCALENDAR