BEGIN:VCALENDAR
VERSION:2.0
PRODID:ics.py - http://git.io/lLljaA
BEGIN:VEVENT
DESCRIPTION:Please join the Math/CS seniors as they present their capstones/theses (refreshments at 2:00 outside the building). View the topics below--you may be interested even without Math/CS experience!\n\n\n\nZoom info: \n\nJoin Zoom Meeting\n<a href="https://coloradocollege.zoom.us/j/92052697610?pwd=TTN4a25VVjlJZUxaUElyM054bU9Odz09">https://coloradocollege.zoom.us/j/92052697610?pwd=TTN4a25VVjlJZUxaUElyM054bU9Odz09</a>\n \nMeeting ID: 920 5269 7610\nPasscode: 975320\n\nhttps://today.coloradocollege.edu/events/4423
DTEND:20220414T222500Z
LOCATION:TSC 122\, or <a href="https://coloradocollege.zoom.us/j/92052697610?pwd=TTN4a25VVjlJZUxaUElyM054bU9Odz09">Zoom</a>
DTSTART:20220414T203000Z
SUMMARY:Math and Computer Science Capstone/Thesis Presentations
UID:8a0dc49a-7089-4695-aab5-32402b22c77a
END:VEVENT
END:VCALENDAR