BEGIN:VCALENDAR
VERSION:2.0
PRODID:ics.py - http://git.io/lLljaA
BEGIN:VEVENT
DESCRIPTION:Dance your way into the weekend with Sacred Grounds\, the Under Nora Chipaumire Collective and CC mobile arts this Friday! \n \nWe will be celebrating life\, joy and culture with a community dance event in Cossitt 103 this Friday at 8:30 p.m.\n\nhttps://today.coloradocollege.edu/events/4424
DTEND:20220409T043000Z
LOCATION:Cossitt Hall 
DTSTART:20220409T023000Z
SUMMARY:Night of Multicultural Dance 
UID:a5d66329-e066-4197-8444-9cc303d5cd86
END:VEVENT
END:VCALENDAR