BEGIN:VCALENDAR
VERSION:2.0
PRODID:ics.py - http://git.io/lLljaA
BEGIN:VEVENT
DESCRIPTION:Have comments\, questions\, suggestions\, or concerns about food access and service on campus? Join the Bon Appettit general manager and executive chef as well as college staff in discussion about how to address them. \n \nThe food advisory forum takes place every second Wednesday of the block at 2 pm in East Rastall. All are welcome to join!\n \nOr\, if you are unable to attend in person\, you can provide feedback online at: <a href="https://coloradocollege.cafebonappetit.com/cafe/rastall-dining-hall/#contact-us">https://coloradocollege.cafebonappetit.com/cafe/rastall-dining-hall/#contact-us</a>\n \nSelect “I want to” “leave a café comment\,” “fill out a satisfaction survey\,” or “make a suggestion” from the options to be directed to the form.\n\n\nhttps://today.coloradocollege.edu/events/4426
DTEND:20220406T210000Z
LOCATION:East Rastall
DTSTART:20220406T200000Z
SUMMARY:Food Advisory Forum - Block 7
UID:209804c6-b11e-4808-bb5c-8ede7254546b
END:VEVENT
END:VCALENDAR