BEGIN:VCALENDAR
VERSION:2.0
PRODID:ics.py - http://git.io/lLljaA
BEGIN:VEVENT
DESCRIPTION:Please join us for the final Colloquium talk of the year\, Thursday\, April 7\, 2022\, at 3:30 p.m. in Gaylord Hall\, Worner Center.  The title of the talk is "Indigenous Land-Based Anticolonial Philosophy and Climate Change\," given by Brian Burkhart\, Director of the Native Nations Center\, University of Oklahoma.\n\nhttps://today.coloradocollege.edu/events/4428
DTEND:20220407T223000Z
LOCATION:Gaylord Hall
DTSTART:20220407T213000Z
SUMMARY:Last Philosophy Colloquium of the year
UID:d824c5a2-f8b4-43ef-badd-438164e75564
END:VEVENT
END:VCALENDAR