BEGIN:VCALENDAR
VERSION:2.0
PRODID:ics.py - http://git.io/lLljaA
BEGIN:VEVENT
DESCRIPTION:End your week with at 3:00pm with a grounding and healing qigong practice in the Wisdom Healing and Zhineng Qigong traditions\, taught by Chaplain Kate Holbrook.\n\nQigong moves energy in the body with sound\, visualization\, movement\, and meditation for greater health and wellbeing.  No experience is necessary. FRIDAY 4/8 in Shove Chapel. Weather permitting\, we'll go outside. Sponsored by the Chaplain's Office.\n\nhttps://today.coloradocollege.edu/events/4431
DTEND:20220408T214500Z
LOCATION:Shove Memorial Chapel
DTSTART:20220408T210000Z
SUMMARY:Qigong - Friday at 3p.m.
UID:f836ceca-1030-4af2-a05b-0c7258235e6f
END:VEVENT
END:VCALENDAR