BEGIN:VCALENDAR
VERSION:2.0
PRODID:ics.py - http://git.io/lLljaA
BEGIN:VEVENT
DESCRIPTION:The Office of Student Health and Wellbeing in the Wellness Resource Center team is pleased to invite the candidates for the Sexual Assault Response Coordinator (SARC) position. As a part of the process\, the candidates have prepared a presentation and will host an open forum.\n\nWe invite you all to McHugh Commons on Friday\, April 15\, 2022\, from 3:00 pm to 4:00 pm to watch the presentation\, ask questions and get to know the candidate.\n\nSincerely\,\n\n- The Wellness Resouce Center Team\n\nhttps://today.coloradocollege.edu/events/4436
DTEND:20220415T220000Z
LOCATION:McHugh Commons
DTSTART:20220415T210000Z
SUMMARY:SARC Candidate Presentation / Open Forum
UID:cd969f6f-d678-4e35-9660-086c80721098
END:VEVENT
END:VCALENDAR