BEGIN:VCALENDAR
VERSION:2.0
PRODID:ics.py - http://git.io/lLljaA
BEGIN:VEVENT
DESCRIPTION:That is right! DW is back for their SPRING PERFORMANCES in Kathryn Mohrman Theater in Armstrong. Seats are first come\, first served. Masks are highly recommended. Shows will be taking place Tuesday\, Wednesday and Thursday!\n\nhttps://today.coloradocollege.edu/events/4445
DTEND:20220415T003000Z
LOCATION:Kathryn Mohrman Theatre
DTSTART:20220414T223000Z
SUMMARY: Dance Workshop Showing: Movin Boss B*tches
UID:bf45c507-4906-4c0b-80a0-7e6678687d5e
END:VEVENT
END:VCALENDAR