BEGIN:VCALENDAR
VERSION:2.0
PRODID:ics.py - http://git.io/lLljaA
BEGIN:VEVENT
DESCRIPTION:Sacred Ground's Tea House presents TED's Talks! Students will present about the zany\, the theoretical\, the mundane... anything at all. It's like TedSex with less sex. Come to laugh and maybe just learn a thing or two\n\nWe will have tea\, hot chocolate\, and snacks!\n\nAnyone and everyone is welcome to present! Email your presentation to <a href="mailto:r_bayer@coloradocollege.edu">r_bayer@coloradocollege.edu</a>.\n\nhttps://today.coloradocollege.edu/events/4447
DTEND:20220415T040000Z
LOCATION:Hybl Community Center Main Space
DTSTART:20220415T030000Z
SUMMARY:TED's Talks
UID:3d98c6b1-9782-463a-889e-72c7eaae1978
END:VEVENT
END:VCALENDAR