BEGIN:VCALENDAR
VERSION:2.0
PRODID:ics.py - http://git.io/lLljaA
BEGIN:VEVENT
DESCRIPTION: Join Outdoor Education for an afternoon of friendly competition at our upcoming in-person team event - - OE Olympics! This event will feature a variety of fun team and individual challenges\, each having a unique spin on the equipment and skills used in various outdoor activities! \n \nWill your team master the sleeping bag relay or score the most points in the frisbee discus? Who will be the first to complete the sled obstacle course or demonstrate their dominance in broomball? These are just a few of the many fun and silly activities you could participate in at the OE Olympics. \n \nSign Up Your Team Today!! Date: 3rd Friday Afternoon (April 15th) Time: Running from 1:30 PM to 5:00 PM. Place: Autrey Field (Yampa)  How To Participate: - Connect with friends to form a team (up to 4 people per team).\n \nElect a Team Captain to register your team. - In the registration\, the team captain will select the other teammates\, who will be prompted to complete participations waivers once the registration is submitted. Register here: <a href="https://apps.ideal-logic.com/ccoe?key=29L66-D685_K9KH-5PTF_7ba49fa70070">https://apps.ideal-logic.com/ccoe?key=29L66-D685_K9KH-5PTF_7ba49fa70070</a>\n\nhttps://today.coloradocollege.edu/events/4448
DTEND:20220415T230000Z
LOCATION:Donald Autrey Field
DTSTART:20220415T193000Z
SUMMARY:Sign Up for OE Olympics!
UID:912122b0-04fd-4c5a-859f-f8cfc37327b9
END:VEVENT
END:VCALENDAR