BEGIN:VCALENDAR
VERSION:2.0
PRODID:ics.py - http://git.io/lLljaA
BEGIN:VEVENT
DESCRIPTION:Please join us for a roundtable conversation with Juan Roberto Diago\, Alejandro de la Fuente\, Director of the Afro-Latin American Research Institute at Harvard University\, and Andrea Herrera\, Professor of Literature and Women’s and Ethnic Studies at the University of Colorado\, Colorado Springs.\n\nFree and open to the public. Please RSVP\n\nCornerstone Arts Center – Room 131 Screening Room This event is open to the general public.  https://www.coloradocollege.edu/newsevents/calendar/details.html?EventID=47126&amp\;booking=1SEQUENCE:0\n\nhttps://today.coloradocollege.edu/events/4449
DTEND:20220416T013000Z
LOCATION:Cornerstone 131 (Screening Room) - Edith Kinney Gaylord Cornerstone Arts Center\, 825 N. Cascade Ave.
DTSTART:20220416T000000Z
SUMMARY:Roundtable Conversation with Juan Roberto Diago
UID:a7eb39a4-a21f-41f7-80b6-f11b32a3dc70
END:VEVENT
END:VCALENDAR