BEGIN:VCALENDAR
VERSION:2.0
PRODID:ics.py - http://git.io/lLljaA
BEGIN:VEVENT
DESCRIPTION:Don’t miss this fun opportunity to finish up your Mother's day shopping at the FAC’s shop by <a href="https://fac.coloradocollege.edu/visit/dining-and-shopping/ladyfingers-at-the-fac-shop/">Ladyfingers</a>. Enjoy iced tea\, lemonade\, and cookies while perusing the wide variety of handmade\, locally sourced\, and inclusive goods.\n\nIn addition to the 10% member discount on all items\, during the event Members will receive a special 25% discount on any FAC apparel or merchandise and a gift for each shopper. No RSVP required.\n\nThe event is open to all Members of the Fine Arts Center (which include CC students). CC faculty and staff get 50% off fully priced memberships to the Fine Arts Center. Bring your Gold Card to our front desk or call (719) 634-5583 to sign up.\n\nhttps://today.coloradocollege.edu/events/4450
DTEND:20220506T000000Z
LOCATION:Fine Arts Center shop
DTSTART:20220505T220000Z
SUMMARY:FAC Member Mother's Day Shopping night
UID:df161d3d-9898-43e1-b8a4-337720e73858
END:VEVENT
END:VCALENDAR