BEGIN:VCALENDAR
VERSION:2.0
PRODID:ics.py - http://git.io/lLljaA
BEGIN:VEVENT
DESCRIPTION:CC will host CPR classes April 18.. The first from 8 a.m.-noon and the second from 1-5 p.m.\nThis will be in a blended Learning format with roughly four hours spent with the online material and four hours in hands on certification.\nThis will be a Red Cross Certification in Adult and Pediatric CPR/AED/First Aid with bloodborne pathogens\, anaphylaxis (epinephrine injection) and opioid overdose (naloxone administration).\nCertifications are good for two years. Space is filling up quick however more classes are on their way in the months to come.\nPlease contact Luke Scott (719) 389-6678 or <a href="mailto:lscott@coloradocollege.edu">lscott@coloradocollege.edu</a> to sign up or for further information.\n\nhttps://today.coloradocollege.edu/events/4451
DTEND:20220418T180000Z
LOCATION:McHugh Commons
DTSTART:20220418T140000Z
SUMMARY:CPR Class Available on Campus
UID:e9eab703-7783-4842-8eb0-50982e48ae31
END:VEVENT
END:VCALENDAR