BEGIN:VCALENDAR
VERSION:2.0
PRODID:ics.py - http://git.io/lLljaA
BEGIN:VEVENT
DESCRIPTION:XR Club will host a joint event with 3D printing on campus. All attendees will have a chance to learn how to use the 3D printer on campus to print 3D objects. Bubble tea will be provided to students on a first come\, first serve basis. We hope to see you there!\n\n\nhttps://today.coloradocollege.edu/events/4456
DTEND:20220413T222000Z
LOCATION:Tutt Library First Floor Tech Sandbox
DTSTART:20220413T212000Z
SUMMARY:XR Club Joint Event With 3D Printing (boba= first come\, first serve)
UID:a27dc0f8-8401-440c-8170-43003d633edb
END:VEVENT
END:VCALENDAR