BEGIN:VCALENDAR
VERSION:2.0
PRODID:ics.py - http://git.io/lLljaA
BEGIN:VEVENT
DESCRIPTION:Join Shove Council an open forum for students from all backgrounds\, positionalities\, identities and traditions to talk about the impact of spaces on spiritual practices. \n\nTODAY APRIL 12 AT NOON IN SACRED GROUNDS (BASEMENT TEA HOUSE IN SHOVE CHAPEL)\n\nhttps://today.coloradocollege.edu/events/4457
DTEND:20220413T190000Z
LOCATION:Sacred Grounds
DTSTART:20220413T180000Z
SUMMARY:Shove Council: Exploring Space and Spirituality 
UID:ed514ff8-34b0-4eb8-8ae1-4a80fcf1cdba
END:VEVENT
END:VCALENDAR