BEGIN:VCALENDAR
VERSION:2.0
PRODID:ics.py - http://git.io/lLljaA
BEGIN:VEVENT
DESCRIPTION:Want to get crafty??? With a record breaking 26 class offerings this block\, you would be silly not to sign up for an Arts &amp\; Crafts Block 8 Class!! We have our usual classes ranging from stained class to machine sewing but are excited to debut over a dozen new instructors and their awesome classes including comic illustration\, collage\, chaos painting\, screen printing\, wire wrapping\, crochet\, yarn spinning\, and more! Go to the Student Life Summit at 8am on Monday to get a spot!\n\nhttps://today.coloradocollege.edu/events/4461
DTEND:20220418T150000Z
LOCATION: Student Life on Summit!
DTSTART:20220418T140000Z
SUMMARY:Arts & Crafts Block 8 Class Sign Up!
UID:5a76ff1a-a679-4aaf-ab47-c2609332b802
END:VEVENT
END:VCALENDAR