BEGIN:VCALENDAR
VERSION:2.0
PRODID:ics.py - http://git.io/lLljaA
BEGIN:VEVENT
DESCRIPTION:Passover begins on Friday night !! Come join Hillel for a seder to celebrate at 6:30pm on Tava Quad. Tickets can be picked up at the Worner desk between 8am-8pm. See you guys there!!\n\nhttps://today.coloradocollege.edu/events/4462
DTEND:20220416T013000Z
LOCATION:Tava Quad
DTSTART:20220416T003000Z
SUMMARY:Passover Event
UID:b1a5d2a2-a462-422e-8e41-3e05db50474a
END:VEVENT
END:VCALENDAR