BEGIN:VCALENDAR
VERSION:2.0
PRODID:ics.py - http://git.io/lLljaA
BEGIN:VEVENT
DESCRIPTION:Come out tomorrow for an Improv Practice Space x Queer Skate Collab! There will be skating from 2-5 with improv games from 3-4:30. Bring rollerskates\, blades\, a skateboard or just yourself! Open and welcoming to people of all levels of skating and improvising! Hope to see you there!\n\nhttps://today.coloradocollege.edu/events/4464
DTEND:20220415T230000Z
LOCATION:Mathias Circle
DTSTART:20220415T200000Z
SUMMARY:Improv Skate Date!
UID:e6ca5f8c-e3bd-4a78-972d-c3ca28e34d07
END:VEVENT
END:VCALENDAR