BEGIN:VCALENDAR
VERSION:2.0
PRODID:ics.py - http://git.io/lLljaA
BEGIN:VEVENT
DESCRIPTION:Join CC Mobile Arts for an evening of art and live music as we celebrate one year of providing free arts programming to the Pikes Peak Region.\nLive musical performances by Deth Rali!\nA wooden flower wall hanging workshop with Kai Gaynor a.k.a. momoxoart\nAnd a small local artist vendor market with many beautiful goodies for you to take home.\n\nLearn more about more about the event at https://fb.me/e/1iKW5yQ91\n\nhttps://today.coloradocollege.edu/events/4474
DTEND:20220507T020000Z
LOCATION:Fine Arts Center Sculpture Garden 
DTSTART:20220506T220000Z
SUMMARY:CC Mobile Arts' One Year Anniversary Celebration 
UID:5014d9f4-7f54-452a-91bb-4ec2574b8b09
END:VEVENT
END:VCALENDAR