BEGIN:VCALENDAR
VERSION:2.0
PRODID:ics.py - http://git.io/lLljaA
BEGIN:VEVENT
DESCRIPTION:On Friday\, May 6\, at 7:30 p.m.\, Emmett Tucker\, piano\, and Richard Wang\, clarinet\, will present a joint instrumental recital in Packard Hall that includes solo works and the students teaming up for a clarinet duet. Wang will be accompanied by Susan Grace\, piano.\n\nThe CC Department of Music suggests\, but does not require\, that attendees wear a KN95 or similar filtration mask. Visit CC’s Coronavirus Updates &amp\; Resources webpage for full information about CC’s Covid-19 policies.\n\nFor parking information\, call the Music office at 719-389-6545. Visit www.coloradocollege.edu/music to learn more about the CC Summer Music Department. This event is open to the general public.  https://www.coloradocollege.edu/newsevents/calendar/details.html?EventID=48975&amp\;booking=1SEQUENCE:0\n\nhttps://today.coloradocollege.edu/events/4475
DTEND:20220507T030000Z
LOCATION:Packard Performance Hall - 5 W. Cache La Poudre St.
DTSTART:20220507T013000Z
SUMMARY:Student Recital: Emmett Tucker\, piano\, and Richard Wang\, clarinet
UID:6473cbdb-1d60-4477-8d80-00f161b71c84
END:VEVENT
END:VCALENDAR