BEGIN:VCALENDAR
VERSION:2.0
PRODID:ics.py - http://git.io/lLljaA
BEGIN:VEVENT
DESCRIPTION:The senior vocal recital of Aida Hasson\, mezzo-soprano\, accompanied by Daniel Brink\, piano\, has been postponed. Stay tuned for a rescheduled date.\n\nThe CC Department of Music suggests\, but does not require\, that attendees wear a KN95 or similar filtration mask. Visit CC’s Coronavirus Updates &amp\; Resources webpage for full information about CC’s Covid-19 policies.\n\nFor parking information\, call the Music office at 719-389-6545. Visit www.coloradocollege.edu/music to learn more about the CC Summer Music Department. This event is open to the general public.  https://www.coloradocollege.edu/newsevents/calendar/details.html?EventID=48977&amp\;booking=1SEQUENCE:0\n\nhttps://today.coloradocollege.edu/events/4476
DTEND:20220510T030000Z
LOCATION: - 
DTSTART:20220510T013000Z
SUMMARY:POSTPONED - Student Recital:  Aida Hasson\, mezzo-soprano
UID:782a919a-e9e0-4a9a-9aae-59b7b8ef47ca
END:VEVENT
END:VCALENDAR